BEGIN:VCALENDAR
VERSION:2.0
PRODID:-//RAACE - Race Against Abuse of Children Everywhere - ECPv6.15.12.2//NONSGML v1.0//EN
CALSCALE:GREGORIAN
METHOD:PUBLISH
X-WR-CALNAME:RAACE - Race Against Abuse of Children Everywhere
X-ORIGINAL-URL:https://raace.org
X-WR-CALDESC:Events for RAACE - Race Against Abuse of Children Everywhere
REFRESH-INTERVAL;VALUE=DURATION:PT1H
X-Robots-Tag:noindex
X-PUBLISHED-TTL:PT1H
BEGIN:VTIMEZONE
TZID:America/New_York
BEGIN:DAYLIGHT
TZOFFSETFROM:-0500
TZOFFSETTO:-0400
TZNAME:EDT
DTSTART:20220313T070000
END:DAYLIGHT
BEGIN:STANDARD
TZOFFSETFROM:-0400
TZOFFSETTO:-0500
TZNAME:EST
DTSTART:20221106T060000
END:STANDARD
BEGIN:DAYLIGHT
TZOFFSETFROM:-0500
TZOFFSETTO:-0400
TZNAME:EDT
DTSTART:20230312T070000
END:DAYLIGHT
BEGIN:STANDARD
TZOFFSETFROM:-0400
TZOFFSETTO:-0500
TZNAME:EST
DTSTART:20231105T060000
END:STANDARD
BEGIN:DAYLIGHT
TZOFFSETFROM:-0500
TZOFFSETTO:-0400
TZNAME:EDT
DTSTART:20240310T070000
END:DAYLIGHT
BEGIN:STANDARD
TZOFFSETFROM:-0400
TZOFFSETTO:-0500
TZNAME:EST
DTSTART:20241103T060000
END:STANDARD
END:VTIMEZONE
BEGIN:VEVENT
DTSTART;TZID=America/New_York:20230506T150000
DTEND;TZID=America/New_York:20230506T170000
DTSTAMP:20260421T070948
CREATED:20250324T215344Z
LAST-MODIFIED:20250324T215425Z
UID:177-1683385200-1683392400@raace.org
SUMMARY:Jordan Feliz: Somebody Loves You Tour
DESCRIPTION:RAACE has joined forces with The Concert Spot/48 Live to tour with Jordan Feliz to 12 different concert locations spreading our message to thousands. On Saturday\, May 6th the tour will be right in our own backyard at Mountain Christian Church. \nPlease come join us for a musical night!
URL:https://raace.org/event/jordan-feliz-somebody-loves-you-tour/
LOCATION:Mountain Christian Church\, 1824 Mountain Road\, Joppatowne\, 21084\, United States
CATEGORIES:Rock with RAACE
ATTACH;FMTTYPE=image/jpeg:https://raace.org/wp-content/uploads/2025/03/7506D073-E6B9-40AF-A939-BD91DD8EC62E-768x403-1.jpeg
END:VEVENT
END:VCALENDAR